BEGIN:VCALENDAR
VERSION:2.0
PRODID:-//pretix//pretix.eu//
BEGIN:VTIMEZONE
TZID:Europe/Berlin
BEGIN:STANDARD
DTSTART:20001029T040000
RRULE:FREQ=YEARLY;BYDAY=-1SU;BYMONTH=10
TZNAME:CET
TZOFFSETFROM:+0200
TZOFFSETTO:+0100
END:STANDARD
BEGIN:DAYLIGHT
DTSTART:20000326T030000
RRULE:FREQ=YEARLY;BYDAY=-1SU;BYMONTH=3
TZNAME:CEST
TZOFFSETFROM:+0100
TZOFFSETTO:+0200
END:DAYLIGHT
END:VTIMEZONE
BEGIN:VEVENT
UID:pretix-kurpfalz.institut-26.812-0@prime-edu.nowticket.de
DTSTART;TZID=Europe/Berlin:20260505T160000
DTEND;TZID=Europe/Berlin:20260505T190000
DESCRIPTION:Tickets: https://prime-edu.nowticket.de/26.812/\nVeranstalter: 
 PRIME-EDU eine Marke von KURPFALZ INSTITUT
DTSTAMP:20260424T134310Z
LOCATION:Seestr. 126\, Ketsch
SUMMARY:Steuern - IAB
END:VEVENT
END:VCALENDAR
